Package: pathwayPCA Version: 1.26.0 Command: /Library/Frameworks/R.framework/Resources/bin/R CMD INSTALL pathwayPCA StartedAt: 2025-11-06 15:03:12 -0500 (Thu, 06 Nov 2025) EndedAt: 2025-11-06 15:03:16 -0500 (Thu, 06 Nov 2025) EllapsedTime: 3.9 seconds RetCode: 0 Status: OK