Package: pathwayPCA Version: 1.26.0 Command: /Library/Frameworks/R.framework/Resources/bin/R CMD build --keep-empty-dirs --no-resave-data pathwayPCA StartedAt: 2025-11-06 17:18:53 -0500 (Thu, 06 Nov 2025) EndedAt: 2025-11-06 17:20:01 -0500 (Thu, 06 Nov 2025) EllapsedTime: 67.8 seconds RetCode: 0 Status: OK PackageFile: pathwayPCA_1.26.0.tar.gz PackageFileSize: 3.478 MiB