Package: pathview Version: 1.48.0 Command: rm -rf pathview.buildbin-libdir && mkdir pathview.buildbin-libdir && E:\biocbuild\bbs-3.21-bioc\R\bin\R.exe CMD INSTALL --build --library=pathview.buildbin-libdir pathview_1.48.0.tar.gz StartedAt: 2025-08-15 09:55:01 -0400 (Fri, 15 Aug 2025) EndedAt: 2025-08-15 09:55:35 -0400 (Fri, 15 Aug 2025) EllapsedTime: 33.8 seconds RetCode: 0 Status: OK PackageFile: pathview_1.48.0.zip PackageFileSize: 2.818 MiB