Package: pathview Version: 1.48.0 Command: rm -rf pathview.buildbin-libdir && mkdir pathview.buildbin-libdir && /Users/biocbuild/BBS/utils/build-universal.sh pathview_1.48.0.tar.gz /Library/Frameworks/R.framework/Resources/bin/R pathview.buildbin-libdir StartedAt: 2025-04-21 22:45:56 -0400 (Mon, 21 Apr 2025) EndedAt: 2025-04-21 22:46:04 -0400 (Mon, 21 Apr 2025) EllapsedTime: 8.2 seconds RetCode: 0 Status: OK PackageFile: pathview_1.48.0.tgz PackageFileSize: 2.729 MiB