Package: pathlinkR Version: 1.4.0 Command: E:\biocbuild\bbs-3.21-bioc\R\bin\R.exe CMD check --no-multiarch --install=check:pathlinkR.install-out.txt --library=E:\biocbuild\bbs-3.21-bioc\R\library --no-vignettes --timings pathlinkR_1.4.0.tar.gz StartedAt: 2025-08-15 05:14:23 -0400 (Fri, 15 Aug 2025) EndedAt: 2025-08-15 05:22:33 -0400 (Fri, 15 Aug 2025) EllapsedTime: 490.6 seconds RetCode: 0 Status: OK CheckDir: pathlinkR.Rcheck Warnings: 0