Package: pathlinkR Version: 1.4.0 Command: chmod a+r pathlinkR -R && E:\biocbuild\bbs-3.21-bioc\R\bin\R.exe CMD build --keep-empty-dirs --no-resave-data pathlinkR StartedAt: 2025-08-14 21:09:41 -0400 (Thu, 14 Aug 2025) EndedAt: 2025-08-14 21:21:54 -0400 (Thu, 14 Aug 2025) EllapsedTime: 733.2 seconds RetCode: 0 Status: OK PackageFile: pathlinkR_1.4.0.tar.gz PackageFileSize: 3.167 MiB