Package: pathlinkR Version: 1.4.0 Command: rm -rf pathlinkR.buildbin-libdir && mkdir pathlinkR.buildbin-libdir && E:\biocbuild\bbs-3.21-bioc\R\bin\R.exe CMD INSTALL --build --library=pathlinkR.buildbin-libdir pathlinkR_1.4.0.tar.gz StartedAt: 2025-08-15 09:54:53 -0400 (Fri, 15 Aug 2025) EndedAt: 2025-08-15 09:55:29 -0400 (Fri, 15 Aug 2025) EllapsedTime: 36.6 seconds RetCode: 0 Status: OK PackageFile: pathlinkR_1.4.0.zip PackageFileSize: 3.3 MiB