Package: pathlinkR Version: 1.4.0 Command: /Library/Frameworks/R.framework/Resources/bin/R CMD INSTALL pathlinkR StartedAt: 2025-10-13 17:51:17 -0400 (Mon, 13 Oct 2025) EndedAt: 2025-10-13 17:51:36 -0400 (Mon, 13 Oct 2025) EllapsedTime: 18.4 seconds RetCode: 0 Status: OK