Package: pathlinkR Version: 1.4.0 Command: /Library/Frameworks/R.framework/Resources/bin/R CMD build --keep-empty-dirs --no-resave-data pathlinkR StartedAt: 2025-10-14 06:19:32 -0400 (Tue, 14 Oct 2025) EndedAt: 2025-10-14 06:23:56 -0400 (Tue, 14 Oct 2025) EllapsedTime: 264.7 seconds RetCode: 0 Status: OK PackageFile: pathlinkR_1.4.0.tar.gz PackageFileSize: 4.766 MiB