Package: pathRender Version: 1.76.0 Command: chmod a+r pathRender -R && E:\biocbuild\bbs-3.21-bioc\R\bin\R.exe CMD build --keep-empty-dirs --no-resave-data pathRender StartedAt: 2025-08-14 21:10:48 -0400 (Thu, 14 Aug 2025) EndedAt: 2025-08-14 21:11:36 -0400 (Thu, 14 Aug 2025) EllapsedTime: 48.2 seconds RetCode: 0 Status: OK PackageFile: pathRender_1.76.0.tar.gz PackageFileSize: 149.4 KiB