Package: pathRender Version: 1.76.0 Command: rm -rf pathRender.buildbin-libdir && mkdir pathRender.buildbin-libdir && E:\biocbuild\bbs-3.21-bioc\R\bin\R.exe CMD INSTALL --build --library=pathRender.buildbin-libdir pathRender_1.76.0.tar.gz StartedAt: 2025-08-15 09:54:59 -0400 (Fri, 15 Aug 2025) EndedAt: 2025-08-15 09:55:28 -0400 (Fri, 15 Aug 2025) EllapsedTime: 28.4 seconds RetCode: 0 Status: OK PackageFile: pathRender_1.76.0.zip PackageFileSize: 208.3 KiB