Package: pathMED Version: 1.1.4 Command: rm -rf pathMED.buildbin-libdir && mkdir pathMED.buildbin-libdir && F:\biocbuild\bbs-3.22-bioc\R\bin\R.exe CMD INSTALL --build --library=pathMED.buildbin-libdir pathMED_1.1.4.tar.gz StartedAt: 2025-08-15 10:55:30 -0400 (Fri, 15 Aug 2025) EndedAt: 2025-08-15 10:55:57 -0400 (Fri, 15 Aug 2025) EllapsedTime: 27.5 seconds RetCode: 0 Status: OK PackageFile: pathMED_1.1.4.zip PackageFileSize: 6.251 MiB