Package: pathMED Version: 1.2.0 Command: /home/biocbuild/bbs-3.22-bioc/R/bin/R CMD INSTALL pathMED StartedAt: 2025-11-09 16:00:10 -0500 (Sun, 09 Nov 2025) EndedAt: 2025-11-09 16:00:25 -0500 (Sun, 09 Nov 2025) EllapsedTime: 15.3 seconds RetCode: 0 Status: OK