Package: pathMED Version: 1.2.0 Command: /home/biocbuild/bbs-3.22-bioc/R/bin/R CMD build --keep-empty-dirs --no-resave-data --md5 pathMED StartedAt: 2025-11-06 19:14:04 -0500 (Thu, 06 Nov 2025) EndedAt: 2025-11-06 19:15:21 -0500 (Thu, 06 Nov 2025) EllapsedTime: 77.1 seconds RetCode: 0 Status: OK PackageFile: pathMED_1.2.0.tar.gz PackageFileSize: 6.345 MiB