Package: panp Version: 1.78.0 Command: /Library/Frameworks/R.framework/Resources/bin/R CMD INSTALL panp StartedAt: 2025-10-13 15:22:54 -0400 (Mon, 13 Oct 2025) EndedAt: 2025-10-13 15:23:01 -0400 (Mon, 13 Oct 2025) EllapsedTime: 7.1 seconds RetCode: 0 Status: OK