Package: panp Version: 1.78.0 Command: rm -rf panp.buildbin-libdir && mkdir panp.buildbin-libdir && /Users/biocbuild/BBS/utils/build-universal.sh panp_1.78.0.tar.gz /Library/Frameworks/R.framework/Resources/bin/R panp.buildbin-libdir StartedAt: 2025-10-10 14:21:10 -0400 (Fri, 10 Oct 2025) EndedAt: 2025-10-10 14:21:21 -0400 (Fri, 10 Oct 2025) EllapsedTime: 10.7 seconds RetCode: 0 Status: OK PackageFile: panp_1.78.0.tgz PackageFileSize: 683.9 KiB