Package: pageRank Version: 1.18.0 Command: rm -rf pageRank.buildbin-libdir && mkdir pageRank.buildbin-libdir && /Users/biocbuild/BBS/utils/build-universal.sh pageRank_1.18.0.tar.gz /Library/Frameworks/R.framework/Resources/bin/R pageRank.buildbin-libdir StartedAt: 2025-04-21 22:45:43 -0400 (Mon, 21 Apr 2025) EndedAt: 2025-04-21 22:46:01 -0400 (Mon, 21 Apr 2025) EllapsedTime: 17.4 seconds RetCode: 0 Status: OK PackageFile: pageRank_1.18.0.tgz PackageFileSize: 176.3 KiB