Package: pageRank Version: 1.18.0 Command: /Library/Frameworks/R.framework/Resources/bin/R CMD INSTALL pageRank StartedAt: 2025-10-13 18:05:10 -0400 (Mon, 13 Oct 2025) EndedAt: 2025-10-13 18:05:55 -0400 (Mon, 13 Oct 2025) EllapsedTime: 45.4 seconds RetCode: 0 Status: OK