Package: packFinder Version: 1.20.0 Command: E:\biocbuild\bbs-3.21-bioc\R\bin\R.exe CMD check --no-multiarch --install=check:packFinder.install-out.txt --library=E:\biocbuild\bbs-3.21-bioc\R\library --no-vignettes --timings packFinder_1.20.0.tar.gz StartedAt: 2025-08-15 05:08:50 -0400 (Fri, 15 Aug 2025) EndedAt: 2025-08-15 05:10:04 -0400 (Fri, 15 Aug 2025) EllapsedTime: 73.9 seconds RetCode: 0 Status: OK CheckDir: packFinder.Rcheck Warnings: 0