Package: packFinder Version: 1.22.0 Command: /home/biocbuild/bbs-3.22-bioc/R/bin/R CMD build --keep-empty-dirs --no-resave-data --md5 packFinder StartedAt: 2025-11-17 22:36:29 -0500 (Mon, 17 Nov 2025) EndedAt: 2025-11-17 22:36:40 -0500 (Mon, 17 Nov 2025) EllapsedTime: 11.0 seconds RetCode: 0 Status: OK PackageFile: packFinder_1.22.0.tar.gz PackageFileSize: 1.151 MiB