Package: packFinder Version: 1.20.0 Command: /Library/Frameworks/R.framework/Resources/bin/R CMD check --install=check:packFinder.install-out.txt --library=/Library/Frameworks/R.framework/Resources/library --no-vignettes --timings packFinder_1.20.0.tar.gz StartedAt: 2025-10-01 06:45:49 -0400 (Wed, 01 Oct 2025) EndedAt: 2025-10-01 06:46:42 -0400 (Wed, 01 Oct 2025) EllapsedTime: 53.3 seconds RetCode: 0 Status: OK CheckDir: packFinder.Rcheck Warnings: 0