Package: packFinder Version: 1.20.0 Command: /Library/Frameworks/R.framework/Resources/bin/R CMD build --keep-empty-dirs --no-resave-data packFinder StartedAt: 2025-09-30 06:10:57 -0400 (Tue, 30 Sep 2025) EndedAt: 2025-09-30 06:11:13 -0400 (Tue, 30 Sep 2025) EllapsedTime: 16.8 seconds RetCode: 0 Status: OK PackageFile: packFinder_1.20.0.tar.gz PackageFileSize: 1.133 MiB