Package: pRolocGUI Version: 2.18.0 Command: rm -rf pRolocGUI.buildbin-libdir && mkdir pRolocGUI.buildbin-libdir && E:\biocbuild\bbs-3.21-bioc\R\bin\R.exe CMD INSTALL --build --library=pRolocGUI.buildbin-libdir pRolocGUI_2.18.0.tar.gz StartedAt: 2025-08-15 09:59:16 -0400 (Fri, 15 Aug 2025) EndedAt: 2025-08-15 10:00:23 -0400 (Fri, 15 Aug 2025) EllapsedTime: 67.3 seconds RetCode: 0 Status: OK PackageFile: pRolocGUI_2.18.0.zip PackageFileSize: 1.774 MiB