Package: optimalFlow Version: 1.22.0 Command: /home/biocbuild/R/R/bin/R CMD INSTALL optimalFlow StartedAt: 2025-11-17 21:20:05 -0000 (Mon, 17 Nov 2025) EndedAt: 2025-11-17 21:20:29 -0000 (Mon, 17 Nov 2025) EllapsedTime: 23.7 seconds RetCode: 0 Status: OK