Package: optimalFlow Version: 1.22.0 Command: /home/biocbuild/bbs-3.22-bioc/R/bin/R CMD build --keep-empty-dirs --no-resave-data --md5 optimalFlow StartedAt: 2025-11-17 22:32:28 -0500 (Mon, 17 Nov 2025) EndedAt: 2025-11-17 22:39:11 -0500 (Mon, 17 Nov 2025) EllapsedTime: 402.5 seconds RetCode: 0 Status: OK PackageFile: optimalFlow_1.22.0.tar.gz PackageFileSize: 1.319 MiB