Package: oppar Version: 1.38.0 Command: /Library/Frameworks/R.framework/Resources/bin/R CMD check --install=check:oppar.install-out.txt --library=/Library/Frameworks/R.framework/Resources/library --no-vignettes --timings oppar_1.38.0.tar.gz StartedAt: 2025-11-10 21:28:26 -0500 (Mon, 10 Nov 2025) EndedAt: 2025-11-10 21:30:21 -0500 (Mon, 10 Nov 2025) EllapsedTime: 115.4 seconds RetCode: 0 Status: WARNINGS CheckDir: oppar.Rcheck Warnings: 2