Package: oposSOM Version: 2.26.0 Command: /Library/Frameworks/R.framework/Resources/bin/R CMD build --keep-empty-dirs --no-resave-data oposSOM StartedAt: 2025-10-13 21:16:15 -0400 (Mon, 13 Oct 2025) EndedAt: 2025-10-13 21:17:56 -0400 (Mon, 13 Oct 2025) EllapsedTime: 101.0 seconds RetCode: 0 Status: OK PackageFile: oposSOM_2.26.0.tar.gz PackageFileSize: 13.35 MiB