Package: oposSOM Version: 2.26.0 Command: rm -rf oposSOM.buildbin-libdir && mkdir oposSOM.buildbin-libdir && /Users/biocbuild/BBS/utils/build-universal.sh oposSOM_2.26.0.tar.gz /Library/Frameworks/R.framework/Resources/bin/R oposSOM.buildbin-libdir StartedAt: 2025-04-21 22:45:26 -0400 (Mon, 21 Apr 2025) EndedAt: 2025-04-21 22:45:41 -0400 (Mon, 21 Apr 2025) EllapsedTime: 15.3 seconds RetCode: 0 Status: OK PackageFile: oposSOM_2.26.0.tgz PackageFileSize: 13.58 MiB