Package: openCyto Version: 2.20.1 Command: /Library/Frameworks/R.framework/Resources/bin/R CMD build --keep-empty-dirs --no-resave-data openCyto StartedAt: 2025-10-13 21:15:53 -0400 (Mon, 13 Oct 2025) EndedAt: 2025-10-13 21:18:51 -0400 (Mon, 13 Oct 2025) EllapsedTime: 178.0 seconds RetCode: 0 Status: OK PackageFile: openCyto_2.20.1.tar.gz PackageFileSize: 2.463 MiB