Package: ontoProc Version: 2.3.11 Command: /home/biocbuild/R/R/bin/R CMD INSTALL ontoProc StartedAt: 2025-10-23 20:59:31 -0000 (Thu, 23 Oct 2025) EndedAt: 2025-10-23 21:00:12 -0000 (Thu, 23 Oct 2025) EllapsedTime: 41.1 seconds RetCode: 0 Status: OK