############################################################################## ############################################################################## ### ### Running command: ### ### /home/biocbuild/R/R/bin/R CMD check --install=check:ontoProc.install-out.txt --library=/home/biocbuild/R/R/site-library --no-vignettes --timings ontoProc_2.4.0.tar.gz ### ############################################################################## ############################################################################## * using log directory ‘/home/biocbuild/bbs-3.22-bioc/meat/ontoProc.Rcheck’ * using R version 4.5.0 (2025-04-11) * using platform: aarch64-unknown-linux-gnu * R was compiled by aarch64-unknown-linux-gnu-gcc (GCC) 14.2.0 GNU Fortran (GCC) 14.2.0 * running under: openEuler 24.03 (LTS) * using session charset: UTF-8 * using option ‘--no-vignettes’ * checking for file ‘ontoProc/DESCRIPTION’ ... OK * this is package ‘ontoProc’ version ‘2.4.0’ * package encoding: UTF-8 * checking package namespace information ... OK * checking package dependencies ... OK * checking if this is a source package ... OK * checking if there is a namespace ... OK * checking for hidden files and directories ... OK * checking for portable file names ... OK * checking for sufficient/correct file permissions ... OK * checking whether package ‘ontoProc’ can be installed ... OK * checking installed package size ... INFO installed size is 11.5Mb sub-directories of 1Mb or more: app 1.9Mb data 1.8Mb ontoRda 2.8Mb owl 3.8Mb * checking package directory ... OK * checking ‘build’ directory ... OK * checking DESCRIPTION meta-information ... OK * checking top-level files ... OK * checking for left-over files ... OK * checking index information ... OK * checking package subdirectories ... OK * checking code files for non-ASCII characters ... OK * checking R files for syntax errors ... OK * checking whether the package can be loaded ... OK * checking whether the package can be loaded with stated dependencies ... OK * checking whether the package can be unloaded cleanly ... OK * checking whether the namespace can be loaded with stated dependencies ... OK * checking whether the namespace can be unloaded cleanly ... OK * checking loading without being on the library search path ... OK * checking dependencies in R code ... NOTE ':::' call which should be '::': ‘ontologyPlot:::remove_uninformative_terms’ See the note in ?`:::` about the use of this operator. * checking S3 generic/method consistency ... OK * checking replacement functions ... OK * checking foreign function calls ... OK * checking R code for possible problems ... NOTE CLfeat : prupdate: no visible binding for global variable ‘PROSYM’ CLfeat : prupdate: no visible binding for global variable ‘PRID’ CLfeat : prupdate: no visible binding for global variable ‘SYMBOL’ ctmarks : server: no visible binding for global variable ‘text’ ctmarks : server: no visible binding for global variable ‘packDesc2022’ ctmarks : server: no visible binding for global variable ‘packDesc2021’ ctmarks: no visible binding for global variable ‘cumu’ dropStop: no visible binding for global variable ‘stopWords’ getOnto: no visible binding for global variable ‘rdatadateadded’ getOnto: no visible binding for global variable ‘title’ getOnto: no visible binding for global variable ‘description’ ldfToTerm: no visible binding for global variable ‘PROSYM’ sym2CellOnto: no visible binding for global variable ‘PROSYM’ sym2CellOnto: no visible binding for global variable ‘SYMBOL’ Undefined global functions or variables: PRID PROSYM SYMBOL cumu description packDesc2021 packDesc2022 rdatadateadded stopWords text title Consider adding importFrom("graphics", "text", "title") to your NAMESPACE file. * checking Rd files ... OK * checking Rd metadata ... OK * checking Rd cross-references ... NOTE Found the following Rd file(s) with Rd \link{} targets missing package anchors: findCommonAncestors.Rd: graph, DataFrame-class, List-class Please provide package anchors for all Rd \link{} targets not in the package itself and the base packages. * checking for missing documentation entries ... OK * checking for code/documentation mismatches ... OK * checking Rd \usage sections ... NOTE S3 methods shown with full name in Rd file 'plot.owlents.Rd': ‘plot.owlents’ The \usage entries for S3 methods should use the \method markup and not their full name. See chapter ‘Writing R documentation files’ in the ‘Writing R Extensions’ manual. * checking Rd contents ... OK * checking for unstated dependencies in examples ... OK * checking contents of ‘data’ directory ... OK * checking data for non-ASCII characters ... OK * checking data for ASCII and uncompressed saves ... OK * checking files in ‘vignettes’ ... OK * checking examples ... OK Examples with CPU (user + system) or elapsed time > 5s user system elapsed sym2CellOnto 298.058 7.537 313.425 siblings_TAG 174.542 3.843 189.274 cleanCLOnames 133.999 3.180 212.027 nomenCheckup 133.042 2.508 139.724 CLfeats 89.989 4.554 119.205 fastGrep 81.933 1.861 87.317 getLeavesFromTerm 81.340 1.871 86.995 common_classes 65.699 2.119 87.177 findCommonAncestors 64.108 2.159 69.840 liberalMap 64.491 1.470 69.557 make_graphNEL_from_ontology_plot 63.115 1.919 69.260 getOnto 63.392 1.528 69.071 selectFromMap 63.154 1.646 68.516 mapOneNaive 62.541 1.755 67.833 onto_plot2 61.024 1.744 65.989 secLevGen 60.665 1.381 67.610 TermSet-class 57.031 1.709 72.176 ontoDiff 16.105 1.151 24.197 graph2paths 11.264 0.231 11.577 plot.owlents 5.378 0.214 112.656 ancestors 2.829 0.342 5.074 search_labels 0.512 0.014 18.267 bioregistry_ols_resources 0.050 0.008 19.204 * checking for unstated dependencies in ‘tests’ ... OK * checking tests ... Running ‘test.R’