Package: ontoProc Version: 2.3.9 Command: F:\biocbuild\bbs-3.22-bioc\R\bin\R.exe CMD INSTALL ontoProc StartedAt: 2025-08-14 16:29:21 -0400 (Thu, 14 Aug 2025) EndedAt: 2025-08-14 16:30:41 -0400 (Thu, 14 Aug 2025) EllapsedTime: 79.7 seconds RetCode: 0 Status: OK