Package: ontoProc Version: 2.3.9 Command: chmod a+r ontoProc -R && F:\biocbuild\bbs-3.22-bioc\R\bin\R.exe CMD build --keep-empty-dirs --no-resave-data ontoProc StartedAt: 2025-08-14 22:01:53 -0400 (Thu, 14 Aug 2025) EndedAt: 2025-08-14 22:06:52 -0400 (Thu, 14 Aug 2025) EllapsedTime: 298.5 seconds RetCode: 0 Status: OK PackageFile: ontoProc_2.3.9.tar.gz PackageFileSize: 12.78 MiB