Package: ontoProc Version: 2.2.4 Command: E:\biocbuild\bbs-3.21-bioc\R\bin\R.exe CMD INSTALL ontoProc StartedAt: 2025-08-14 16:40:15 -0400 (Thu, 14 Aug 2025) EndedAt: 2025-08-14 16:41:24 -0400 (Thu, 14 Aug 2025) EllapsedTime: 69.0 seconds RetCode: 0 Status: OK