Package: ontoProc Version: 2.2.3 Command: rm -rf ontoProc.buildbin-libdir && mkdir ontoProc.buildbin-libdir && E:\biocbuild\bbs-3.21-bioc\R\bin\R.exe CMD INSTALL --build --library=ontoProc.buildbin-libdir ontoProc_2.2.3.tar.gz StartedAt: 2025-08-08 09:29:39 -0400 (Fri, 08 Aug 2025) EndedAt: 2025-08-08 09:30:48 -0400 (Fri, 08 Aug 2025) EllapsedTime: 69.3 seconds RetCode: 0 Status: OK PackageFile: ontoProc_2.2.3.zip PackageFileSize: 9.998 MiB