Package: ontoProc Version: 2.4.0 Command: /home/biocbuild/bbs-3.22-bioc/R/bin/R CMD check --install=check:ontoProc.install-out.txt --library=/home/biocbuild/bbs-3.22-bioc/R/site-library --timings ontoProc_2.4.0.tar.gz StartedAt: 2025-11-07 02:15:57 -0500 (Fri, 07 Nov 2025) EndedAt: 2025-11-07 02:53:50 -0500 (Fri, 07 Nov 2025) EllapsedTime: 2272.9 seconds RetCode: 0 Status: OK CheckDir: ontoProc.Rcheck Warnings: 0