Package: ontoProc Version: 2.2.3 Command: /Library/Frameworks/R.framework/Resources/bin/R CMD check --install=check:ontoProc.install-out.txt --library=/Library/Frameworks/R.framework/Resources/library --no-vignettes --timings ontoProc_2.2.3.tar.gz StartedAt: 2025-08-08 07:28:26 -0400 (Fri, 08 Aug 2025) EndedAt: 2025-08-08 07:52:10 -0400 (Fri, 08 Aug 2025) EllapsedTime: 1424.3 seconds RetCode: 0 Status: OK CheckDir: ontoProc.Rcheck Warnings: 0