Package: ontoProc Version: 2.2.4 Command: /Library/Frameworks/R.framework/Resources/bin/R CMD build --keep-empty-dirs --no-resave-data ontoProc StartedAt: 2025-09-25 21:16:16 -0400 (Thu, 25 Sep 2025) EndedAt: 2025-09-25 21:21:23 -0400 (Thu, 25 Sep 2025) EllapsedTime: 307.2 seconds RetCode: 1 Status: ERROR PackageFile: None PackageFileSize: NA