Package: ontoProc Version: 2.2.3 Command: rm -rf ontoProc.buildbin-libdir && mkdir ontoProc.buildbin-libdir && /Users/biocbuild/BBS/utils/build-universal.sh ontoProc_2.2.3.tar.gz /Library/Frameworks/R.framework/Resources/bin/R ontoProc.buildbin-libdir StartedAt: 2025-08-08 13:48:40 -0400 (Fri, 08 Aug 2025) EndedAt: 2025-08-08 13:50:32 -0400 (Fri, 08 Aug 2025) EllapsedTime: 111.4 seconds RetCode: 0 Status: OK PackageFile: ontoProc_2.2.3.tgz PackageFileSize: 10.31 MiB