Package: onlineFDR Version: 2.17.0 Command: /home/biocbuild/R/R/bin/R CMD build --keep-empty-dirs --no-resave-data onlineFDR StartedAt: 2025-10-21 01:50:02 -0000 (Tue, 21 Oct 2025) EndedAt: 2025-10-21 01:51:23 -0000 (Tue, 21 Oct 2025) EllapsedTime: 81.0 seconds RetCode: 0 Status: OK PackageFile: onlineFDR_2.17.0.tar.gz PackageFileSize: 1.915 MiB