Package: oncomix Version: 1.31.0 Command: /home/biocbuild/R/R/bin/R CMD build --keep-empty-dirs --no-resave-data oncomix StartedAt: 2025-10-21 01:49:49 -0000 (Tue, 21 Oct 2025) EndedAt: 2025-10-21 01:50:52 -0000 (Tue, 21 Oct 2025) EllapsedTime: 63.0 seconds RetCode: 0 Status: OK PackageFile: oncomix_1.31.0.tar.gz PackageFileSize: 1.884 MiB