Package: omicsPrint Version: 1.29.0 Command: /home/biocbuild/R/R/bin/R CMD INSTALL omicsPrint StartedAt: 2025-10-23 20:39:56 -0000 (Thu, 23 Oct 2025) EndedAt: 2025-10-23 20:40:30 -0000 (Thu, 23 Oct 2025) EllapsedTime: 33.8 seconds RetCode: 0 Status: OK