Package: omicsPrint Version: 1.30.0 Command: /home/biocbuild/R/R/bin/R CMD check --install=check:omicsPrint.install-out.txt --library=/home/biocbuild/R/R/site-library --no-vignettes --timings omicsPrint_1.30.0.tar.gz StartedAt: 2025-11-11 12:39:53 -0000 (Tue, 11 Nov 2025) EndedAt: 2025-11-11 12:43:25 -0000 (Tue, 11 Nov 2025) EllapsedTime: 212.3 seconds RetCode: 0 Status: WARNINGS CheckDir: omicsPrint.Rcheck Warnings: 1