Package: omicsPrint Version: 1.29.0 Command: F:\biocbuild\bbs-3.22-bioc\R\bin\R.exe CMD check --no-multiarch --install=check:omicsPrint.install-out.txt --library=F:\biocbuild\bbs-3.22-bioc\R\library --no-vignettes --timings omicsPrint_1.29.0.tar.gz StartedAt: 2025-08-15 06:00:33 -0400 (Fri, 15 Aug 2025) EndedAt: 2025-08-15 06:03:58 -0400 (Fri, 15 Aug 2025) EllapsedTime: 205.7 seconds RetCode: 0 Status: WARNINGS CheckDir: omicsPrint.Rcheck Warnings: 1