Package: omicsPrint Version: 1.30.0 Command: /home/biocbuild/bbs-3.22-bioc/R/bin/R CMD check --install=check:omicsPrint.install-out.txt --library=/home/biocbuild/bbs-3.22-bioc/R/site-library --timings omicsPrint_1.30.0.tar.gz StartedAt: 2025-11-10 02:28:50 -0500 (Mon, 10 Nov 2025) EndedAt: 2025-11-10 02:32:17 -0500 (Mon, 10 Nov 2025) EllapsedTime: 207.1 seconds RetCode: 0 Status: WARNINGS CheckDir: omicsPrint.Rcheck Warnings: 1