Package: omicRexposome Version: 1.31.0 Command: F:\biocbuild\bbs-3.22-bioc\R\bin\R.exe CMD check --no-multiarch --install=check:omicRexposome.install-out.txt --library=F:\biocbuild\bbs-3.22-bioc\R\library --no-vignettes --timings omicRexposome_1.31.0.tar.gz StartedAt: 2025-08-15 06:00:07 -0400 (Fri, 15 Aug 2025) EndedAt: 2025-08-15 06:05:40 -0400 (Fri, 15 Aug 2025) EllapsedTime: 332.7 seconds RetCode: 0 Status: OK CheckDir: omicRexposome.Rcheck Warnings: 0