Package: omada Version: 1.10.0 Command: /home/biocbuild/bbs-3.21-bioc/R/bin/R CMD build --keep-empty-dirs --no-resave-data omada StartedAt: 2025-10-15 18:55:21 -0400 (Wed, 15 Oct 2025) EndedAt: 2025-10-15 18:57:11 -0400 (Wed, 15 Oct 2025) EllapsedTime: 110.1 seconds RetCode: 0 Status: OK PackageFile: omada_1.10.0.tar.gz PackageFileSize: 179.1 KiB