Package: omada Version: 1.10.0 Command: rm -rf omada.buildbin-libdir && mkdir omada.buildbin-libdir && /Users/biocbuild/BBS/utils/build-universal.sh omada_1.10.0.tar.gz /Library/Frameworks/R.framework/Resources/bin/R omada.buildbin-libdir StartedAt: 2025-10-14 14:17:26 -0400 (Tue, 14 Oct 2025) EndedAt: 2025-10-14 14:18:03 -0400 (Tue, 14 Oct 2025) EllapsedTime: 36.7 seconds RetCode: 0 Status: OK PackageFile: omada_1.10.0.tgz PackageFileSize: 304.1 KiB