Package: omada Version: 1.10.0 Command: /Library/Frameworks/R.framework/Resources/bin/R CMD build --keep-empty-dirs --no-resave-data omada StartedAt: 2025-04-21 17:10:04 -0400 (Mon, 21 Apr 2025) EndedAt: 2025-04-21 17:10:50 -0400 (Mon, 21 Apr 2025) EllapsedTime: 46.5 seconds RetCode: 0 Status: OK PackageFile: omada_1.10.0.tar.gz PackageFileSize: 201.8 KiB