Package: omada Version: 1.10.0 Command: /Library/Frameworks/R.framework/Resources/bin/R CMD build --keep-empty-dirs --no-resave-data omada StartedAt: 2025-10-14 05:52:26 -0400 (Tue, 14 Oct 2025) EndedAt: 2025-10-14 05:54:46 -0400 (Tue, 14 Oct 2025) EllapsedTime: 139.3 seconds RetCode: 0 Status: OK PackageFile: omada_1.10.0.tar.gz PackageFileSize: 205.6 KiB